BEGIN:VCALENDAR
VERSION:2.0
PRODID:-//frconline.org//NONSGML kigkonsult.se iCalcreator 2.30.10//
CALSCALE:GREGORIAN
METHOD:PUBLISH
UID:faaf9b9a-243f-4f9f-8ded-6e15f9d3f687
X-WR-CALDESC:6 weekly sessions for parents of youth 10-17. Sessions focus o
 n what teens need to be successful\, gaining cooperation and effective com
 munication with our teens\, and instilling responsibility and discipline d
 uring the adolescent years.
X-WR-RELCALID:eab6d6d43880a551065fc22afe0e4b41
X-WR-TIMEZONE:America/Los_Angeles
BEGIN:VTIMEZONE
TZID:America/Los_Angeles
BEGIN:STANDARD
TZNAME:PST
DTSTART:20191103T020000
TZOFFSETFROM:-0700
TZOFFSETTO:-0800
RDATE:20201101T020000
END:STANDARD
BEGIN:DAYLIGHT
TZNAME:PDT
DTSTART:20190310T020000
TZOFFSETFROM:-0800
TZOFFSETTO:-0700
RDATE:20200308T020000
RDATE:20210314T020000
END:DAYLIGHT
END:VTIMEZONE
BEGIN:VEVENT
UID:ac2800ed-f683-493a-a25e-9adcbba8ff50
DTSTAMP:20260423T225800Z
DESCRIPTION:6 weekly sessions for parents of youth 10-17. Sessions focus on
  what teens need to be successful\, gaining cooperation and effective comm
 unication with our teens\, and instilling responsibility and discipline du
 ring the adolescent years.
DTSTART;TZID=America/Los_Angeles:20200219T180000
DTEND;TZID=America/Los_Angeles:20200219T200000
LOCATION:Family Resource Center - Bend
SUMMARY:Active Parenting of Teens
END:VEVENT
END:VCALENDAR
