BEGIN:VCALENDAR
VERSION:2.0
PRODID:-//frconline.org//NONSGML kigkonsult.se iCalcreator 2.30.10//
CALSCALE:GREGORIAN
METHOD:PUBLISH
UID:7f4f3577-df54-4bdf-8a84-5f7bd4785466
X-WR-CALDESC:10-weekly sessions for parents\, grandparents and care provide
 rs of children 0-8 years Join us and talk with other parents to discover w
 ays to reduce stress\, find positive ways to discipline and help your chil
 dren succeed in school.\n\n
X-WR-RELCALID:35c18e74b3d803f9fdc5c8f3a7d7f340
X-WR-TIMEZONE:America/Los_Angeles
BEGIN:VTIMEZONE
TZID:America/Los_Angeles
BEGIN:STANDARD
TZNAME:PST
DTSTART:20191103T020000
TZOFFSETFROM:-0700
TZOFFSETTO:-0800
RDATE:20201101T020000
END:STANDARD
BEGIN:DAYLIGHT
TZNAME:PDT
DTSTART:20190310T020000
TZOFFSETFROM:-0800
TZOFFSETTO:-0700
RDATE:20200308T020000
RDATE:20210314T020000
END:DAYLIGHT
END:VTIMEZONE
BEGIN:VEVENT
UID:88b824ae-aff2-49f3-8332-61ea79ecd34a
DTSTAMP:20260423T225037Z
DESCRIPTION:10-weekly sessions for parents\, grandparents and care provider
 s of children 0-8 years Join us and talk with other parents to discover wa
 ys to reduce stress\, find positive ways to discipline and help your child
 ren succeed in school.\n\n
DTSTART;TZID=America/Los_Angeles:20200212T173000
DTEND;TZID=America/Los_Angeles:20200212T193000
LOCATION:Bend
SUMMARY:Make Parenting A Pleasure
END:VEVENT
END:VCALENDAR
