BEGIN:VCALENDAR
VERSION:2.0
PRODID:-//frconline.org//NONSGML kigkonsult.se iCalcreator 2.30.10//
CALSCALE:GREGORIAN
METHOD:PUBLISH
UID:a4e429e9-52f8-417f-a41e-412d729921bf
X-WR-CALDESC:Construir y fortalecer conexiones \nDiviértete aprendiendo jun
 tos
X-WR-RELCALID:07894e8abafe064c30554e53da5f41f4
X-WR-TIMEZONE:America/Los_Angeles
BEGIN:VTIMEZONE
TZID:America/Los_Angeles
BEGIN:STANDARD
TZNAME:PST
DTSTART:20191103T020000
TZOFFSETFROM:-0700
TZOFFSETTO:-0800
RDATE:20201101T020000
END:STANDARD
BEGIN:DAYLIGHT
TZNAME:PDT
DTSTART:20190310T020000
TZOFFSETFROM:-0800
TZOFFSETTO:-0700
RDATE:20200308T020000
RDATE:20210314T020000
END:DAYLIGHT
END:VTIMEZONE
BEGIN:VEVENT
UID:3d046551-3fba-4493-b99a-9cf48a66f21e
DTSTAMP:20260423T223909Z
DESCRIPTION:Construir y fortalecer conexiones \nDiviértete aprendiendo junt
 os
DTSTART;TZID=America/Los_Angeles:20200211T173000
DTEND;TZID=America/Los_Angeles:20200211T193000
LOCATION:Madras
SUMMARY:Crianza De Los Padres
END:VEVENT
END:VCALENDAR
