BEGIN:VCALENDAR
VERSION:2.0
PRODID:-//frconline.org//NONSGML kigkonsult.se iCalcreator 2.30.10//
CALSCALE:GREGORIAN
METHOD:PUBLISH
UID:0a8cb056-2da1-4f76-8907-9dfa2f013057
X-WR-CALDESC:Construir y fortalecer conexiones \nDiviértete aprendiendo jun
 tos
X-WR-RELCALID:4b62f19acf10b4bb383915f84930f742
X-WR-TIMEZONE:America/Los_Angeles
BEGIN:VTIMEZONE
TZID:America/Los_Angeles
BEGIN:STANDARD
TZNAME:PST
DTSTART:20191103T020000
TZOFFSETFROM:-0700
TZOFFSETTO:-0800
RDATE:20201101T020000
END:STANDARD
BEGIN:DAYLIGHT
TZNAME:PDT
DTSTART:20190310T020000
TZOFFSETFROM:-0800
TZOFFSETTO:-0700
RDATE:20200308T020000
RDATE:20210314T020000
END:DAYLIGHT
END:VTIMEZONE
BEGIN:VEVENT
UID:5594c2ec-172a-4e06-a2b3-c540aec1bad2
DTSTAMP:20260424T001038Z
DESCRIPTION:Construir y fortalecer conexiones \nDiviértete aprendiendo junt
 os
DTSTART;TZID=America/Los_Angeles:20200121T173000
DTEND;TZID=America/Los_Angeles:20200121T193000
LOCATION:Madras
SUMMARY:Crianza De Los Padres
END:VEVENT
END:VCALENDAR
