BEGIN:VCALENDAR
VERSION:2.0
PRODID:-//frconline.org//NONSGML kigkonsult.se iCalcreator 2.30.10//
CALSCALE:GREGORIAN
METHOD:PUBLISH
UID:c8dfe672-453d-417d-a69d-82e10d9149ef
X-WR-CALDESC:Construir y fortalecer conexiones \nDiviértete aprendiendo jun
 tos
X-WR-RELCALID:6242a9b71172184741c0f23785772587
X-WR-TIMEZONE:America/Los_Angeles
BEGIN:VTIMEZONE
TZID:America/Los_Angeles
BEGIN:STANDARD
TZNAME:PST
DTSTART:20191103T020000
TZOFFSETFROM:-0700
TZOFFSETTO:-0800
RDATE:20201101T020000
END:STANDARD
BEGIN:DAYLIGHT
TZNAME:PDT
DTSTART:20190310T020000
TZOFFSETFROM:-0800
TZOFFSETTO:-0700
RDATE:20200308T020000
RDATE:20210314T020000
END:DAYLIGHT
END:VTIMEZONE
BEGIN:VEVENT
UID:012935d5-9ec7-40e5-ba4b-1cc276aad7a5
DTSTAMP:20260424T001141Z
DESCRIPTION:Construir y fortalecer conexiones \nDiviértete aprendiendo junt
 os
DTSTART;TZID=America/Los_Angeles:20200114T173000
DTEND;TZID=America/Los_Angeles:20200114T193000
LOCATION:Madras
SUMMARY:Crianza De Los Padres
END:VEVENT
END:VCALENDAR
