BEGIN:VCALENDAR
VERSION:2.0
PRODID:-//frconline.org//NONSGML kigkonsult.se iCalcreator 2.30.10//
CALSCALE:GREGORIAN
METHOD:PUBLISH
UID:f2357526-61a0-4ec2-ac5e-fdddc51c4513
X-WR-CALDESC:Parents with children newborn to age 8 referred by DHS\, court
 s\, and other agencies share the joys and challenges of parenting while th
 ey learn new ways to handle challenging behaviors and situations. The cour
 se is designed to help teach strategies for helping children to problem so
 lve. Skills are developed in building positive family communications and h
 ow to set clear limits. This class is only offered in Bend.\n
X-WR-RELCALID:2c3ab848bb2a739dc5b5107ac2dd4284
X-WR-TIMEZONE:America/Los_Angeles
BEGIN:VTIMEZONE
TZID:America/Los_Angeles
BEGIN:STANDARD
TZNAME:PST
DTSTART:20191103T020000
TZOFFSETFROM:-0700
TZOFFSETTO:-0800
RDATE:20201101T020000
END:STANDARD
BEGIN:DAYLIGHT
TZNAME:PDT
DTSTART:20190310T020000
TZOFFSETFROM:-0800
TZOFFSETTO:-0700
RDATE:20200308T020000
RDATE:20210314T020000
END:DAYLIGHT
END:VTIMEZONE
BEGIN:VEVENT
UID:999111f9-dd94-4c06-ac53-d17bc81d5ffa
DTSTAMP:20260424T001212Z
DESCRIPTION:Parents with children newborn to age 8 referred by DHS\, courts
 \, and other agencies share the joys and challenges of parenting while the
 y learn new ways to handle challenging behaviors and situations. The cours
 e is designed to help teach strategies for helping children to problem sol
 ve. Skills are developed in building positive family communications and ho
 w to set clear limits. This class is only offered in Bend.\n
DTSTART;TZID=America/Los_Angeles:20200102T173000
DTEND;TZID=America/Los_Angeles:20200102T193000
LOCATION:First Presbyterian Church
SUMMARY:Focus on Parenting
END:VEVENT
END:VCALENDAR
