BEGIN:VCALENDAR
VERSION:2.0
PRODID:-//frconline.org//NONSGML kigkonsult.se iCalcreator 2.30.10//
CALSCALE:GREGORIAN
METHOD:PUBLISH
UID:8e737a67-449a-4ae3-b152-2774e445eb4f
X-WR-CALDESC:A program for parents in Deschutes County experiencing family 
 restructuring\, such as separation or divorce.\n\nDates: \nFirst Tuesday o
 f the month 5:30 - 9:30 p.m.\nFirst Thursday of the month 8:00 a.m. -  12:
 00 p.m.\n\nCost: $70.00 per person (Includes $20.00 materials fee that can
 not be waived)\n\nLocation: Located in the Mike Maier Building\n\nTo regis
 ter call 541-389-5468 with your case number.
X-WR-RELCALID:7bf351907ab8d3d00ea43ccf5814c229
X-WR-TIMEZONE:America/Los_Angeles
BEGIN:VTIMEZONE
TZID:America/Los_Angeles
BEGIN:STANDARD
TZNAME:PST
DTSTART:20181104T020000
TZOFFSETFROM:-0700
TZOFFSETTO:-0800
RDATE:20191103T020000
RDATE:20201101T020000
END:STANDARD
BEGIN:DAYLIGHT
TZNAME:PDT
DTSTART:20190310T020000
TZOFFSETFROM:-0800
TZOFFSETTO:-0700
RDATE:20200308T020000
END:DAYLIGHT
END:VTIMEZONE
BEGIN:VEVENT
UID:3f084dad-2d94-4d65-8314-5480681f4865
DTSTAMP:20260424T085344Z
DESCRIPTION:A program for parents in Deschutes County experiencing family r
 estructuring\, such as separation or divorce.\n\nDates: \nFirst Tuesday of
  the month 5:30 - 9:30 p.m.\nFirst Thursday of the month 8:00 a.m. -  12:0
 0 p.m.\n\nCost: $70.00 per person (Includes $20.00 materials fee that cann
 ot be waived)\n\nLocation: Located in the Mike Maier Building\n\nTo regist
 er call 541-389-5468 with your case number.
DTSTART;TZID=America/Los_Angeles:20190806T173000
DTEND;TZID=America/Los_Angeles:20190806T213000
LOCATION:1130 NW Harriman Street\, Suite B Bend Oregon 97703
SUMMARY:Family Law Education Program
END:VEVENT
END:VCALENDAR
