BEGIN:VCALENDAR
VERSION:2.0
PRODID:-//frconline.org//NONSGML kigkonsult.se iCalcreator 2.30.10//
CALSCALE:GREGORIAN
METHOD:PUBLISH
UID:f606b64a-d958-4209-8132-7012a38bd8d0
X-WR-CALDESC:A program for parents in Deschutes County experiencing family 
 restructuring\, such as separation or divorce.\n\nDates: \nFirst Tuesday o
 f the month 8 a.m.-12 p.m.\nFirst Wednesday of the month 5:30 p.m.- 9:30 p
 .m.\n\nCost: $70.00 per person ($20.00 non-refundable fee\, $50.00 waivabl
 e by court)\n\nLocation: Located in the Mike Meier Building\n\nTo register
  call 541-389-5468 with your case number.
X-WR-RELCALID:f2db68065e9310d3328adbc419391dc0
X-WR-TIMEZONE:America/Los_Angeles
BEGIN:VTIMEZONE
TZID:America/Los_Angeles
BEGIN:STANDARD
TZNAME:PST
DTSTART:20181104T020000
TZOFFSETFROM:-0700
TZOFFSETTO:-0800
RDATE:20191103T020000
RDATE:20201101T020000
END:STANDARD
BEGIN:DAYLIGHT
TZNAME:PDT
DTSTART:20190310T020000
TZOFFSETFROM:-0800
TZOFFSETTO:-0700
RDATE:20200308T020000
END:DAYLIGHT
END:VTIMEZONE
BEGIN:VEVENT
UID:c2f6d71a-748d-4a28-9cb2-9f8e239fdbbb
DTSTAMP:20260424T123356Z
DESCRIPTION:A program for parents in Deschutes County experiencing family r
 estructuring\, such as separation or divorce.\n\nDates: \nFirst Tuesday of
  the month 8 a.m.-12 p.m.\nFirst Wednesday of the month 5:30 p.m.- 9:30 p.
 m.\n\nCost: $70.00 per person ($20.00 non-refundable fee\, $50.00 waivable
  by court)\n\nLocation: Located in the Mike Meier Building\n\nTo register 
 call 541-389-5468 with your case number.
DTSTART;TZID=America/Los_Angeles:20190605T173000
DTEND;TZID=America/Los_Angeles:20190605T213000
LOCATION:1130 NW Harriman Street\, Suite B Bend Oregon 97703
SUMMARY:Family Law Education Program
END:VEVENT
END:VCALENDAR
