BEGIN:VCALENDAR
VERSION:2.0
PRODID:-//frconline.org//NONSGML kigkonsult.se iCalcreator 2.30.10//
CALSCALE:GREGORIAN
METHOD:PUBLISH
UID:56e411b2-e327-4c9e-bb15-9e5ad2761636
X-WR-CALDESC:A program for parents in Deschutes County experiencing family 
 restructuring\, such as separation or divorce.\n\nDates: \nFirst Tuesday o
 f the month 8 a.m.-12 p.m.\nFirst Wednesday of the month 5:30 p.m.- 9:30 p
 .m.\n\nCost: $70.00 per person (Includes $20.00 materials fee that cannot 
 be waived)\n\nLocation: Located in the Mike Meier Building\n\nTo register 
 call 541-389-5468 with your case number.
X-WR-RELCALID:fcc88d23ff02f10c590ebc59bc729bf8
X-WR-TIMEZONE:America/Los_Angeles
BEGIN:VTIMEZONE
TZID:America/Los_Angeles
BEGIN:STANDARD
TZNAME:PST
DTSTART:20181104T020000
TZOFFSETFROM:-0700
TZOFFSETTO:-0800
RDATE:20191103T020000
RDATE:20201101T020000
END:STANDARD
BEGIN:DAYLIGHT
TZNAME:PDT
DTSTART:20190310T020000
TZOFFSETFROM:-0800
TZOFFSETTO:-0700
RDATE:20200308T020000
END:DAYLIGHT
END:VTIMEZONE
BEGIN:VEVENT
UID:1e9822f8-e414-4663-be67-0ceddc262727
DTSTAMP:20260424T141035Z
DESCRIPTION:A program for parents in Deschutes County experiencing family r
 estructuring\, such as separation or divorce.\n\nDates: \nFirst Tuesday of
  the month 8 a.m.-12 p.m.\nFirst Wednesday of the month 5:30 p.m.- 9:30 p.
 m.\n\nCost: $70.00 per person (Includes $20.00 materials fee that cannot b
 e waived)\n\nLocation: Located in the Mike Meier Building\n\nTo register c
 all 541-389-5468 with your case number.
DTSTART;TZID=America/Los_Angeles:20190507T080000
DTEND;TZID=America/Los_Angeles:20190507T120000
LOCATION:1130 NW Harriman Street\, Suite B Bend Oregon 97703
SUMMARY:Family Law Education Program
END:VEVENT
END:VCALENDAR
