BEGIN:VCALENDAR
VERSION:2.0
PRODID:-//frconline.org//NONSGML kigkonsult.se iCalcreator 2.30.10//
CALSCALE:GREGORIAN
METHOD:PUBLISH
UID:74559615-d880-4341-a263-b44f7170b96d
X-WR-CALDESC:6-weekly sessions for parents of children 5-12 years. Learn ab
 out parenting styles & brain development\, explore cooperation and communi
 cation techniques and learn seven smart things parents can do to help chil
 dren succeed in school.
X-WR-RELCALID:fefc2a37a1d9f756907700fe4ce58682
X-WR-TIMEZONE:America/Los_Angeles
BEGIN:VTIMEZONE
TZID:America/Los_Angeles
BEGIN:STANDARD
TZNAME:PST
DTSTART:20181104T020000
TZOFFSETFROM:-0700
TZOFFSETTO:-0800
RDATE:20191103T020000
END:STANDARD
BEGIN:DAYLIGHT
TZNAME:PDT
DTSTART:20190310T020000
TZOFFSETFROM:-0800
TZOFFSETTO:-0700
RDATE:20200308T020000
END:DAYLIGHT
END:VTIMEZONE
BEGIN:VEVENT
UID:88d7f924-4227-44e9-98eb-d8ee5f527cc7
DTSTAMP:20260424T140705Z
DESCRIPTION:6-weekly sessions for parents of children 5-12 years. Learn abo
 ut parenting styles & brain development\, explore cooperation and communic
 ation techniques and learn seven smart things parents can do to help child
 ren succeed in school.
DTSTART;TZID=America/Los_Angeles:20190502T173000
DTEND;TZID=America/Los_Angeles:20190502T193000
LOCATION:Active Parenting Now
SUMMARY:Active Parenting Now
END:VEVENT
END:VCALENDAR
