BEGIN:VCALENDAR
VERSION:2.0
PRODID:-//frconline.org//NONSGML kigkonsult.se iCalcreator 2.30.10//
CALSCALE:GREGORIAN
METHOD:PUBLISH
UID:ac32604e-54ac-44cd-9b03-75ea5a7626e8
X-WR-CALDESC:12 weekly sessions to learn how to have more fun and less stre
 ss while parenting\, positive ways to gain cooperation and to discipline\,
  and build self-worth in your children.
X-WR-RELCALID:35d99a50c3bc4167ddcd390ef437104f
X-WR-TIMEZONE:America/Los_Angeles
BEGIN:VTIMEZONE
TZID:America/Los_Angeles
BEGIN:STANDARD
TZNAME:PST
DTSTART:20181104T020000
TZOFFSETFROM:-0700
TZOFFSETTO:-0800
RDATE:20191103T020000
END:STANDARD
BEGIN:DAYLIGHT
TZNAME:PDT
DTSTART:20190310T020000
TZOFFSETFROM:-0800
TZOFFSETTO:-0700
RDATE:20200308T020000
END:DAYLIGHT
END:VTIMEZONE
BEGIN:VEVENT
UID:54abec1c-94d4-478c-b193-1c2615f86397
DTSTAMP:20260424T154411Z
DESCRIPTION:12 weekly sessions to learn how to have more fun and less stres
 s while parenting\, positive ways to gain cooperation and to discipline\, 
 and build self-worth in your children.
DTSTART;TZID=America/Los_Angeles:20190422T173000
DTEND;TZID=America/Los_Angeles:20190422T193000
LOCATION:Deschutes Children's Foundation Eastside Campus
SUMMARY:Incredible Years
END:VEVENT
END:VCALENDAR
