BEGIN:VCALENDAR
VERSION:2.0
PRODID:-//frconline.org//NONSGML kigkonsult.se iCalcreator 2.30.10//
CALSCALE:GREGORIAN
METHOD:PUBLISH
UID:8597e90c-dbe6-479b-a5c1-df0ad70b9567
X-WR-CALDESC:If you had to choose one word to describe the community you wa
 nt children to live in\, what would it be? Happy? Supportive? Compassionat
 e? Resilient? When I ask this question to parents and educators\, these ar
 e the words they choose. These words point to the importance of emotional 
 intelligence - the skills we need to manage our emotions. From happy to sa
 d\, loved to frustrated\, excited to discouraged - the many emotions child
 ren and adults experience throughout the day matter! Emotions impact our a
 bility to respond effectively in social situations\, to build positive rel
 ationships\, to navigate life challenges\, and to thrive.\n\nIn this hands
 -on workshop lead by Shauna Tominey Ph.d\, learn tools and strategies to p
 romote emotional intelligence to create compassionate kids and the communi
 ty we all want to see.\n\nCost: Free!  \n\nChildcare is provided (MUST REG
 ISTER FOR CHILDCARE IN ADVANCE IN THE FORM BELOW)\n\nTo register for this 
 workshop\, please fill out the form below.
X-WR-RELCALID:7bd97a9f510480cb63beefcf0210f0ab
X-WR-TIMEZONE:America/Los_Angeles
BEGIN:VTIMEZONE
TZID:America/Los_Angeles
BEGIN:STANDARD
TZNAME:PST
DTSTART:20181104T020000
TZOFFSETFROM:-0700
TZOFFSETTO:-0800
RDATE:20191103T020000
END:STANDARD
BEGIN:DAYLIGHT
TZNAME:PDT
DTSTART:20190310T020000
TZOFFSETFROM:-0800
TZOFFSETTO:-0700
RDATE:20200308T020000
END:DAYLIGHT
END:VTIMEZONE
BEGIN:VEVENT
UID:0f371595-40ac-4447-b8c1-4f604e46eee9
DTSTAMP:20260424T154256Z
DESCRIPTION:If you had to choose one word to describe the community you wan
 t children to live in\, what would it be? Happy? Supportive? Compassionate
 ? Resilient? When I ask this question to parents and educators\, these are
  the words they choose. These words point to the importance of emotional i
 ntelligence - the skills we need to manage our emotions. From happy to sad
 \, loved to frustrated\, excited to discouraged - the many emotions childr
 en and adults experience throughout the day matter! Emotions impact our ab
 ility to respond effectively in social situations\, to build positive rela
 tionships\, to navigate life challenges\, and to thrive.\n\nIn this hands-
 on workshop lead by Shauna Tominey Ph.d\, learn tools and strategies to pr
 omote emotional intelligence to create compassionate kids and the communit
 y we all want to see.\n\nCost: Free!  \n\nChildcare is provided (MUST REGI
 STER FOR CHILDCARE IN ADVANCE IN THE FORM BELOW)\n\nTo register for this w
 orkshop\, please fill out the form below.
DTSTART;TZID=America/Los_Angeles:20190408T180000
DTEND;TZID=America/Los_Angeles:20190408T200000
LOCATION:Seven Peaks School 19660 Mountaineer Way Bend OR
SUMMARY:Creating Compassionate Kids
END:VEVENT
END:VCALENDAR
