BEGIN:VCALENDAR
VERSION:2.0
PRODID:-//frconline.org//NONSGML kigkonsult.se iCalcreator 2.30.10//
CALSCALE:GREGORIAN
METHOD:PUBLISH
UID:c74f77f2-1f51-47d0-a4e0-c69983621782
X-WR-CALDESC:A program for parents in Deschutes County experiencing family 
 restructuring\, such as separation or divorce.\n\nDates: \nFirst Tuesday o
 f the month 8 a.m.-12 p.m.\nFirst Wednesday of the month 5:30 p.m.- 9:30 p
 .m.\n\nCost: $70.00 per person ($20.00 non-refundable fee\, $50.00 waivabl
 e by court)\n\nLocation: Located in the Mike Meier Building\n\nTo register
  call 541-389-5468 with your case number.
X-WR-RELCALID:784398aff9ce77c63df63608e040f2d5
X-WR-TIMEZONE:America/Los_Angeles
BEGIN:VTIMEZONE
TZID:America/Los_Angeles
BEGIN:STANDARD
TZNAME:PST
DTSTART:20181104T020000
TZOFFSETFROM:-0700
TZOFFSETTO:-0800
RDATE:20191103T020000
END:STANDARD
BEGIN:DAYLIGHT
TZNAME:PDT
DTSTART:20190310T020000
TZOFFSETFROM:-0800
TZOFFSETTO:-0700
RDATE:20200308T020000
END:DAYLIGHT
END:VTIMEZONE
BEGIN:VEVENT
UID:ea26c4c9-2ccb-44e6-9821-c8c133798a3d
DTSTAMP:20260424T154559Z
DESCRIPTION:A program for parents in Deschutes County experiencing family r
 estructuring\, such as separation or divorce.\n\nDates: \nFirst Tuesday of
  the month 8 a.m.-12 p.m.\nFirst Wednesday of the month 5:30 p.m.- 9:30 p.
 m.\n\nCost: $70.00 per person ($20.00 non-refundable fee\, $50.00 waivable
  by court)\n\nLocation: Located in the Mike Meier Building\n\nTo register 
 call 541-389-5468 with your case number.
DTSTART;TZID=America/Los_Angeles:20190403T173000
DTEND;TZID=America/Los_Angeles:20190403T213000
LOCATION:1130 NW Harriman Street\, Suite B Bend Oregon 97703
SUMMARY:Family Law Education Program
END:VEVENT
END:VCALENDAR
