BEGIN:VCALENDAR
VERSION:2.0
PRODID:-//frconline.org//NONSGML kigkonsult.se iCalcreator 2.30.10//
CALSCALE:GREGORIAN
METHOD:PUBLISH
UID:2351cc09-c0ff-4d96-b92a-e4d73e27d199
X-WR-CALDESC:10-weekly sessions for parents\, grandparents and care provide
 rs of children 0 to 8 years. Explore the latest parenting techniques\, lea
 rn to set limits\, find positive approaches to discipline\, and help your 
 child prepare for school success.
X-WR-RELCALID:8188e2e2d891f6c3d2b8993f3da368f1
X-WR-TIMEZONE:America/Los_Angeles
BEGIN:VTIMEZONE
TZID:America/Los_Angeles
BEGIN:STANDARD
TZNAME:PST
DTSTART:20181104T020000
TZOFFSETFROM:-0700
TZOFFSETTO:-0800
RDATE:20191103T020000
END:STANDARD
BEGIN:DAYLIGHT
TZNAME:PDT
DTSTART:20190310T020000
TZOFFSETFROM:-0800
TZOFFSETTO:-0700
RDATE:20200308T020000
END:DAYLIGHT
END:VTIMEZONE
BEGIN:VEVENT
UID:4442d39e-6ab6-4797-972d-95931ba7806b
DTSTAMP:20260424T171226Z
DESCRIPTION:10-weekly sessions for parents\, grandparents and care provider
 s of children 0 to 8 years. Explore the latest parenting techniques\, lear
 n to set limits\, find positive approaches to discipline\, and help your c
 hild prepare for school success.
DTSTART;TZID=America/Los_Angeles:20190326T180000
DTEND;TZID=America/Los_Angeles:20190326T200000
LOCATION:Madras Oregon Child Development Coalition
SUMMARY:Make Parenting a Pleasure
END:VEVENT
END:VCALENDAR
