BEGIN:VCALENDAR
VERSION:2.0
PRODID:-//frconline.org//NONSGML kigkonsult.se iCalcreator 2.30.10//
CALSCALE:GREGORIAN
METHOD:PUBLISH
UID:185c2bcd-596b-4bdc-880a-036b6ff6fd26
X-WR-CALDESC:6 weekly sessions for parents of youth 10-17. Sessions focus o
 n what teens need to be successful\, gaining cooperation and effective com
 munication with our teens\, and instilling responsibility and discipline d
 uring the adolescent years.
X-WR-RELCALID:199d523eeccfc2129a8d87418d893497
X-WR-TIMEZONE:America/Los_Angeles
BEGIN:VTIMEZONE
TZID:America/Los_Angeles
BEGIN:STANDARD
TZNAME:PST
DTSTART:20181104T020000
TZOFFSETFROM:-0700
TZOFFSETTO:-0800
RDATE:20191103T020000
END:STANDARD
BEGIN:DAYLIGHT
TZNAME:PDT
DTSTART:20190310T020000
TZOFFSETFROM:-0800
TZOFFSETTO:-0700
RDATE:20200308T020000
END:DAYLIGHT
END:VTIMEZONE
BEGIN:VEVENT
UID:c8707b24-5c27-4e16-b7f5-40a0ea420208
DTSTAMP:20260424T172508Z
DESCRIPTION:6 weekly sessions for parents of youth 10-17. Sessions focus on
  what teens need to be successful\, gaining cooperation and effective comm
 unication with our teens\, and instilling responsibility and discipline du
 ring the adolescent years.
DTSTART;TZID=America/Los_Angeles:20190321T180000
DTEND;TZID=America/Los_Angeles:20190321T200000
LOCATION:RPA Middle School
SUMMARY:Active Parenting of Teens
END:VEVENT
END:VCALENDAR
