BEGIN:VCALENDAR
VERSION:2.0
PRODID:-//frconline.org//NONSGML kigkonsult.se iCalcreator 2.30.10//
CALSCALE:GREGORIAN
METHOD:PUBLISH
UID:42ceffe1-5261-43cb-b17c-cf6418fbb6dc
X-WR-CALDESC:10-weekly sessions for parents\, grandparents and care provide
 rs of children 0-8 years. Explore the latest parenting techniques\, find p
 ositive approaches to discipline and help your child prepare for school su
 ccess.
X-WR-RELCALID:6b54d30b00183224b739601e74292b69
X-WR-TIMEZONE:America/Los_Angeles
BEGIN:VTIMEZONE
TZID:America/Los_Angeles
BEGIN:STANDARD
TZNAME:PST
DTSTART:20181104T020000
TZOFFSETFROM:-0700
TZOFFSETTO:-0800
RDATE:20191103T020000
END:STANDARD
BEGIN:DAYLIGHT
TZNAME:PDT
DTSTART:20190310T020000
TZOFFSETFROM:-0800
TZOFFSETTO:-0700
RDATE:20200308T020000
END:DAYLIGHT
END:VTIMEZONE
BEGIN:VEVENT
UID:081ea3ae-2ebf-4cb6-a404-951e1466818d
DTSTAMP:20260424T172253Z
DESCRIPTION:10-weekly sessions for parents\, grandparents and care provider
 s of children 0-8 years. Explore the latest parenting techniques\, find po
 sitive approaches to discipline and help your child prepare for school suc
 cess.
DTSTART;TZID=America/Los_Angeles:20190312T180000
DTEND;TZID=America/Los_Angeles:20190312T200000
LOCATION:Redmond
SUMMARY:Make Parenting A Pleasure
END:VEVENT
END:VCALENDAR
