BEGIN:VCALENDAR
VERSION:2.0
PRODID:-//frconline.org//NONSGML kigkonsult.se iCalcreator 2.30.10//
CALSCALE:GREGORIAN
METHOD:PUBLISH
UID:b131228e-f2d1-4458-9194-cee280ca388b
X-WR-CALDESC:10-weekly sessions for parents\, grandparents and care provide
 rs of children 0-8 years. Explore the latest parenting techniques\, find p
 ositive approaches to discipline and help your child prepare for school su
 ccess.
X-WR-RELCALID:a7db67573aad0cb491331ffbc2ad3384
X-WR-TIMEZONE:America/Los_Angeles
BEGIN:VTIMEZONE
TZID:America/Los_Angeles
BEGIN:STANDARD
TZNAME:PST
DTSTART:20181104T020000
TZOFFSETFROM:-0700
TZOFFSETTO:-0800
RDATE:20191103T020000
END:STANDARD
BEGIN:DAYLIGHT
TZNAME:PDT
DTSTART:20180311T020000
TZOFFSETFROM:-0800
TZOFFSETTO:-0700
RDATE:20190310T020000
RDATE:20200308T020000
END:DAYLIGHT
END:VTIMEZONE
BEGIN:VEVENT
UID:55fb45d0-4662-4f65-8400-48d743fbf75c
DTSTAMP:20260424T172738Z
DESCRIPTION:10-weekly sessions for parents\, grandparents and care provider
 s of children 0-8 years. Explore the latest parenting techniques\, find po
 sitive approaches to discipline and help your child prepare for school suc
 cess.
DTSTART;TZID=America/Los_Angeles:20190305T180000
DTEND;TZID=America/Los_Angeles:20190305T200000
LOCATION:Redmond
SUMMARY:Make Parenting A Pleasure
END:VEVENT
END:VCALENDAR
