BEGIN:VCALENDAR
VERSION:2.0
PRODID:-//frconline.org//NONSGML kigkonsult.se iCalcreator 2.30.10//
CALSCALE:GREGORIAN
METHOD:PUBLISH
UID:a9259008-1a8d-4f16-85ec-d1933ff53e8b
X-WR-CALDESC:Una sesión de dos horas\, cada semana por 6 semanas en la escu
 ela de su hijo.\nPaternidad activa para tener éxito en la escuela\nCómo co
 mprender y reencaminar el mal comportamiento\nCómo el desarrollo del cereb
 ro afecta el comportamiento y la toma de decisiones de los niños\nCooperac
 ión y Comunicación\nResponsabilidad y Disciplina\nDesarrollo del valor y l
 a estima propia\n\nEs necesario inscribirse.\nLlame: Maria Teresa a 541-40
 8-4388\n\n
X-WR-RELCALID:7ff2250dbe605aec429d90d783da35bd
X-WR-TIMEZONE:America/Los_Angeles
BEGIN:VTIMEZONE
TZID:America/Los_Angeles
BEGIN:STANDARD
TZNAME:PST
DTSTART:20181104T020000
TZOFFSETFROM:-0700
TZOFFSETTO:-0800
RDATE:20191103T020000
END:STANDARD
BEGIN:DAYLIGHT
TZNAME:PDT
DTSTART:20180311T020000
TZOFFSETFROM:-0800
TZOFFSETTO:-0700
RDATE:20190310T020000
RDATE:20200308T020000
END:DAYLIGHT
END:VTIMEZONE
BEGIN:VEVENT
UID:e8b33c98-dab2-4fab-b90f-bdb3be53fd30
DTSTAMP:20260424T185853Z
DESCRIPTION:Una sesión de dos horas\, cada semana por 6 semanas en la escue
 la de su hijo.\nPaternidad activa para tener éxito en la escuela\nCómo com
 prender y reencaminar el mal comportamiento\nCómo el desarrollo del cerebr
 o afecta el comportamiento y la toma de decisiones de los niños\nCooperaci
 ón y Comunicación\nResponsabilidad y Disciplina\nDesarrollo del valor y la
  estima propia\n\nEs necesario inscribirse.\nLlame: Maria Teresa a 541-408
 -4388\n\n
DTSTART;TZID=America/Los_Angeles:20190211T173000
DTEND;TZID=America/Los_Angeles:20190211T193000
LOCATION:
SUMMARY:Paternidad Activa
END:VEVENT
END:VCALENDAR
