BEGIN:VCALENDAR
VERSION:2.0
PRODID:-//frconline.org//NONSGML kigkonsult.se iCalcreator 2.30.10//
CALSCALE:GREGORIAN
METHOD:PUBLISH
UID:422f93d3-d8f1-4d65-8bdd-609f6d7357d5
X-WR-CALDESC:Sesión de 10-semanas para padres\, abuelos y proveedores de cu
 idado de niños entre edades de 0 a 8 años. Explore las técnicas más actual
 izadas en cuanto a la crianza de niños\, aprenda a poner límites\, a encon
 trar maneras positivas para disciplinar\, y a ayudarle a sus niños  a que 
 se preparen para tener éxito en la escuela.
X-WR-RELCALID:33f46f5eda8564f53275ef1c60546161
X-WR-TIMEZONE:America/Los_Angeles
BEGIN:VTIMEZONE
TZID:America/Los_Angeles
BEGIN:STANDARD
TZNAME:PST
DTSTART:20181104T020000
TZOFFSETFROM:-0700
TZOFFSETTO:-0800
RDATE:20191103T020000
END:STANDARD
BEGIN:DAYLIGHT
TZNAME:PDT
DTSTART:20180311T020000
TZOFFSETFROM:-0800
TZOFFSETTO:-0700
RDATE:20190310T020000
RDATE:20200308T020000
END:DAYLIGHT
END:VTIMEZONE
BEGIN:VEVENT
UID:962ec216-d203-4978-9ea2-54fe4c131e1d
DTSTAMP:20260424T190012Z
DESCRIPTION:Sesión de 10-semanas para padres\, abuelos y proveedores de cui
 dado de niños entre edades de 0 a 8 años. Explore las técnicas más actuali
 zadas en cuanto a la crianza de niños\, aprenda a poner límites\, a encont
 rar maneras positivas para disciplinar\, y a ayudarle a sus niños  a que s
 e preparen para tener éxito en la escuela.
DTSTART;TZID=America/Los_Angeles:20190205T180000
DTEND;TZID=America/Los_Angeles:20190205T200000
LOCATION:Redmond
SUMMARY:Que la Crianza de sus Hijos sea un placer
END:VEVENT
END:VCALENDAR
