BEGIN:VCALENDAR
VERSION:2.0
PRODID:-//frconline.org//NONSGML kigkonsult.se iCalcreator 2.30.10//
CALSCALE:GREGORIAN
METHOD:PUBLISH
UID:e0d6d7d1-d13c-4324-bc6f-6b31c4443f66
X-WR-CALDESC:12 weekly sessions to learn how to have more fun and less stre
 ss while parenting\, positive ways to gain cooperation and to discipline\,
  and build self-worth in your children.
X-WR-RELCALID:321b478838f82af907dfe3b30c10bf24
X-WR-TIMEZONE:America/Los_Angeles
BEGIN:VTIMEZONE
TZID:America/Los_Angeles
BEGIN:STANDARD
TZNAME:PST
DTSTART:20181104T020000
TZOFFSETFROM:-0700
TZOFFSETTO:-0800
RDATE:20191103T020000
END:STANDARD
BEGIN:DAYLIGHT
TZNAME:PDT
DTSTART:20180311T020000
TZOFFSETFROM:-0800
TZOFFSETTO:-0700
RDATE:20190310T020000
RDATE:20200308T020000
END:DAYLIGHT
END:VTIMEZONE
BEGIN:VEVENT
UID:21eaabcd-11b2-4972-8031-8a2827b1f299
DTSTAMP:20260424T202253Z
DESCRIPTION:12 weekly sessions to learn how to have more fun and less stres
 s while parenting\, positive ways to gain cooperation and to discipline\, 
 and build self-worth in your children.
DTSTART;TZID=America/Los_Angeles:20190128T173000
DTEND;TZID=America/Los_Angeles:20190128T193000
LOCATION:Deschutes Children's Foundation Eastside Campus
SUMMARY:Incredible Years
END:VEVENT
END:VCALENDAR
