BEGIN:VCALENDAR
VERSION:2.0
PRODID:-//frconline.org//NONSGML kigkonsult.se iCalcreator 2.30.10//
CALSCALE:GREGORIAN
METHOD:PUBLISH
UID:0306548c-edb0-4ef6-bbf8-b16c1892fc31
X-WR-CALDESC:10-weekly sessions for parents\, grandparents and care provide
 rs of children 0-8 years. Explore the latest parenting techniques\, find p
 ositive approaches to discipline and help your child prepare for school su
 ccess.
X-WR-RELCALID:180516d1f27dae006b984eb6b05b5b9a
X-WR-TIMEZONE:America/Los_Angeles
BEGIN:VTIMEZONE
TZID:America/Los_Angeles
BEGIN:STANDARD
TZNAME:PST
DTSTART:20181104T020000
TZOFFSETFROM:-0700
TZOFFSETTO:-0800
RDATE:20191103T020000
END:STANDARD
BEGIN:DAYLIGHT
TZNAME:PDT
DTSTART:20180311T020000
TZOFFSETFROM:-0800
TZOFFSETTO:-0700
RDATE:20190310T020000
RDATE:20200308T020000
END:DAYLIGHT
END:VTIMEZONE
BEGIN:VEVENT
UID:98ca929e-4b05-449d-a3b7-17f0e5472c65
DTSTAMP:20260424T202351Z
DESCRIPTION:10-weekly sessions for parents\, grandparents and care provider
 s of children 0-8 years. Explore the latest parenting techniques\, find po
 sitive approaches to discipline and help your child prepare for school suc
 cess.
DTSTART;TZID=America/Los_Angeles:20190122T180000
DTEND;TZID=America/Los_Angeles:20190122T200000
LOCATION:Redmond
SUMMARY:Make Parenting A Pleasure
END:VEVENT
END:VCALENDAR
