BEGIN:VCALENDAR
VERSION:2.0
PRODID:-//frconline.org//NONSGML kigkonsult.se iCalcreator 2.30.10//
CALSCALE:GREGORIAN
METHOD:PUBLISH
UID:255627c4-5121-453e-9573-79ee9728e1c6
X-WR-CALDESC:6 weekly sessions for parents of youth 10-17. Sessions focus o
 n what teens need to be successful\, gaining cooperation and effective com
 munication with our teens\, and instilling responsibility and discipline d
 uring the adolescent years.
X-WR-RELCALID:852ecefbd11989cae7c6242794349365
X-WR-TIMEZONE:America/Los_Angeles
BEGIN:VTIMEZONE
TZID:America/Los_Angeles
BEGIN:STANDARD
TZNAME:PST
DTSTART:20181104T020000
TZOFFSETFROM:-0700
TZOFFSETTO:-0800
RDATE:20191103T020000
END:STANDARD
BEGIN:DAYLIGHT
TZNAME:PDT
DTSTART:20180311T020000
TZOFFSETFROM:-0800
TZOFFSETTO:-0700
RDATE:20190310T020000
RDATE:20200308T020000
END:DAYLIGHT
END:VTIMEZONE
BEGIN:VEVENT
UID:12d10e50-ef94-4bb5-9b36-1aa6491f0444
DTSTAMP:20260424T212616Z
DESCRIPTION:6 weekly sessions for parents of youth 10-17. Sessions focus on
  what teens need to be successful\, gaining cooperation and effective comm
 unication with our teens\, and instilling responsibility and discipline du
 ring the adolescent years.
DTSTART;TZID=America/Los_Angeles:20181211T180000
DTEND;TZID=America/Los_Angeles:20181211T200000
LOCATION:Family Resource Center - Bend
SUMMARY:Active Parenting of Teens
END:VEVENT
END:VCALENDAR
