BEGIN:VCALENDAR
VERSION:2.0
PRODID:-//frconline.org//NONSGML kigkonsult.se iCalcreator 2.30.10//
CALSCALE:GREGORIAN
METHOD:PUBLISH
UID:805730c0-568e-4e1f-a83b-21ff6f6a53f0
X-WR-CALDESC:6 weekly sessions for parents of youth 10-17. Sessions focus o
 n what teens need to be successful\, gaining cooperation and effective com
 munication with our teens\, and instilling responsibility and discipline d
 uring the adolescent years.
X-WR-RELCALID:9196ae98a9709a1e1678477389fa348e
X-WR-TIMEZONE:America/Los_Angeles
BEGIN:VTIMEZONE
TZID:America/Los_Angeles
BEGIN:STANDARD
TZNAME:PST
DTSTART:20171105T020000
TZOFFSETFROM:-0700
TZOFFSETTO:-0800
RDATE:20181104T020000
RDATE:20191103T020000
END:STANDARD
BEGIN:DAYLIGHT
TZNAME:PDT
DTSTART:20180311T020000
TZOFFSETFROM:-0800
TZOFFSETTO:-0700
RDATE:20190310T020000
RDATE:20200308T020000
END:DAYLIGHT
END:VTIMEZONE
BEGIN:VEVENT
UID:a322bd1e-9c9d-43e5-9b55-6c1c4f90849d
DTSTAMP:20260425T005433Z
DESCRIPTION:6 weekly sessions for parents of youth 10-17. Sessions focus on
  what teens need to be successful\, gaining cooperation and effective comm
 unication with our teens\, and instilling responsibility and discipline du
 ring the adolescent years.
DTSTART;TZID=America/Los_Angeles:20181030T180000
DTEND;TZID=America/Los_Angeles:20181030T200000
LOCATION:Family Resource Center - Bend
SUMMARY:Active Parenting of Teens
END:VEVENT
END:VCALENDAR
