BEGIN:VCALENDAR
VERSION:2.0
PRODID:-//frconline.org//NONSGML kigkonsult.se iCalcreator 2.30.10//
CALSCALE:GREGORIAN
METHOD:PUBLISH
UID:fed4a7ec-7809-401b-8391-3fded19ace46
X-WR-CALDESC:10-weekly sessions for parents\, grandparents and care provide
 rs of children 0 to 8 years. Explore the latest parenting techniques\, lea
 rn to set limits\, find positive approaches to discipline\, and help your 
 child prepare for school success.
X-WR-RELCALID:c38b143fa48ccf34bcbb58f18ab1606b
X-WR-TIMEZONE:America/Los_Angeles
BEGIN:VTIMEZONE
TZID:America/Los_Angeles
BEGIN:STANDARD
TZNAME:PST
DTSTART:20171105T020000
TZOFFSETFROM:-0700
TZOFFSETTO:-0800
RDATE:20181104T020000
RDATE:20191103T020000
END:STANDARD
BEGIN:DAYLIGHT
TZNAME:PDT
DTSTART:20180311T020000
TZOFFSETFROM:-0800
TZOFFSETTO:-0700
RDATE:20190310T020000
RDATE:20200308T020000
END:DAYLIGHT
END:VTIMEZONE
BEGIN:VEVENT
UID:f0c549cd-2262-473e-987b-8840415bb18f
DTSTAMP:20260425T022348Z
DESCRIPTION:10-weekly sessions for parents\, grandparents and care provider
 s of children 0 to 8 years. Explore the latest parenting techniques\, lear
 n to set limits\, find positive approaches to discipline\, and help your c
 hild prepare for school success.
DTSTART;TZID=America/Los_Angeles:20180918T180000
DTEND;TZID=America/Los_Angeles:20180918T200000
LOCATION:Madras Oregon Child Development Coalition
SUMMARY:Make Parenting a Pleasure
END:VEVENT
END:VCALENDAR
