BEGIN:VCALENDAR
VERSION:2.0
PRODID:-//frconline.org//NONSGML kigkonsult.se iCalcreator 2.30.10//
CALSCALE:GREGORIAN
METHOD:PUBLISH
UID:49cc3b74-1628-45fc-ba51-99cc3da9d7c1
X-WR-CALDESC:5 weekly sessions for parents of children 10-17 that focus on 
 strengthening family bonds\, improving family management skills\, decreasi
 ng family conflict\, and developing strategies for better communication an
 d limit setting.
X-WR-RELCALID:e8366bec4313fda69a355f00840b429c
X-WR-TIMEZONE:America/Los_Angeles
BEGIN:VTIMEZONE
TZID:America/Los_Angeles
BEGIN:STANDARD
TZNAME:PST
DTSTART:20171105T020000
TZOFFSETFROM:-0700
TZOFFSETTO:-0800
RDATE:20181104T020000
END:STANDARD
BEGIN:DAYLIGHT
TZNAME:PDT
DTSTART:20180311T020000
TZOFFSETFROM:-0800
TZOFFSETTO:-0700
RDATE:20190310T020000
END:DAYLIGHT
END:VTIMEZONE
BEGIN:VEVENT
UID:66a2d9f3-38a6-4d38-85f5-de9237974de4
DTSTAMP:20260425T105953Z
DESCRIPTION:5 weekly sessions for parents of children 10-17 that focus on s
 trengthening family bonds\, improving family management skills\, decreasin
 g family conflict\, and developing strategies for better communication and
  limit setting.
DTSTART;TZID=America/Los_Angeles:20180425T180000
DTEND;TZID=America/Los_Angeles:20180425T200000
LOCATION:Family Resource Center
SUMMARY:Staying Connected to Your Teen
END:VEVENT
END:VCALENDAR
