BEGIN:VCALENDAR
VERSION:2.0
PRODID:-//frconline.org//NONSGML kigkonsult.se iCalcreator 2.30.10//
CALSCALE:GREGORIAN
METHOD:PUBLISH
UID:5cc281c0-7c33-4f91-96f9-b04f83e205b3
X-WR-CALDESC:For families and caregivers in Crook County referred to parent
 ing classes by other agencies.
X-WR-RELCALID:03bdda86d57174c081da3ed0d9aa2424
X-WR-TIMEZONE:America/Los_Angeles
BEGIN:VTIMEZONE
TZID:America/Los_Angeles
BEGIN:STANDARD
TZNAME:PST
DTSTART:20171105T020000
TZOFFSETFROM:-0700
TZOFFSETTO:-0800
RDATE:20181104T020000
END:STANDARD
BEGIN:DAYLIGHT
TZNAME:PDT
DTSTART:20180311T020000
TZOFFSETFROM:-0800
TZOFFSETTO:-0700
RDATE:20190310T020000
END:DAYLIGHT
END:VTIMEZONE
BEGIN:VEVENT
UID:b1d89ec1-ec81-4f9e-b42d-8c551b07eae1
DTSTAMP:20260425T104636Z
DESCRIPTION:For families and caregivers in Crook County referred to parenti
 ng classes by other agencies.
DTSTART;TZID=America/Los_Angeles:20180402T173000
DTEND;TZID=America/Los_Angeles:20180402T193000
LOCATION:Prineville
SUMMARY:Parenting Today
END:VEVENT
END:VCALENDAR
