BEGIN:VCALENDAR
VERSION:2.0
PRODID:-//frconline.org//NONSGML kigkonsult.se iCalcreator 2.30.10//
CALSCALE:GREGORIAN
METHOD:PUBLISH
UID:f072c601-2c7f-4346-9b24-0b2f5409e740
X-WR-CALDESC:Sesión de 10-semanas para padres\, abuelos y proveedores de cu
 idado de niños entre edades de 0 a 8 años. Explore las técnicas más actual
 izadas en cuanto a la crianza de niños\, aprenda a poner límites\, a encon
 trar maneras positivas para disciplinar\, y a ayudarle a sus niños  a que 
 se preparen para tener éxito en la escuela.
X-WR-RELCALID:343c8521f2f101e0cd2931c753a93e82
X-WR-TIMEZONE:America/Los_Angeles
BEGIN:VTIMEZONE
TZID:America/Los_Angeles
BEGIN:STANDARD
TZNAME:PST
DTSTART:20171105T020000
TZOFFSETFROM:-0700
TZOFFSETTO:-0800
RDATE:20181104T020000
END:STANDARD
BEGIN:DAYLIGHT
TZNAME:PDT
DTSTART:20170312T020000
TZOFFSETFROM:-0800
TZOFFSETTO:-0700
RDATE:20180311T020000
RDATE:20190310T020000
END:DAYLIGHT
END:VTIMEZONE
BEGIN:VEVENT
UID:9aa1ebeb-9164-4226-bef1-645a3267aa74
DTSTAMP:20260425T124624Z
DESCRIPTION:Sesión de 10-semanas para padres\, abuelos y proveedores de cui
 dado de niños entre edades de 0 a 8 años. Explore las técnicas más actuali
 zadas en cuanto a la crianza de niños\, aprenda a poner límites\, a encont
 rar maneras positivas para disciplinar\, y a ayudarle a sus niños  a que s
 e preparen para tener éxito en la escuela.
DTSTART;TZID=America/Los_Angeles:20180307T173000
DTEND;TZID=America/Los_Angeles:20180307T193000
LOCATION:Vern Patrick Elementary School\, Redmond
SUMMARY:Que la Crianza de sus Hijos sea un placer
END:VEVENT
END:VCALENDAR
