BEGIN:VCALENDAR
VERSION:2.0
PRODID:-//frconline.org//NONSGML kigkonsult.se iCalcreator 2.30.10//
CALSCALE:GREGORIAN
METHOD:PUBLISH
UID:a355aff5-1465-42e7-80b7-760e4fe8ba82
X-WR-CALDESC:Play is the work of childhood and our brain’s favorite way to 
 learn. Join us for an interactive playgroup! Meet other parents\, share st
 ories\, build community and help your little one spread their wings during
  play! Thursdays beginning January 11th at 9:15 through May 31st! Call\n54
 1-389-5468 to register today!
X-WR-RELCALID:0cd851722c73f3cd3b14547fa649ad43
X-WR-TIMEZONE:America/Los_Angeles
BEGIN:VTIMEZONE
TZID:America/Los_Angeles
BEGIN:STANDARD
TZNAME:PST
DTSTART:20171105T020000
TZOFFSETFROM:-0700
TZOFFSETTO:-0800
RDATE:20181104T020000
END:STANDARD
BEGIN:DAYLIGHT
TZNAME:PDT
DTSTART:20170312T020000
TZOFFSETFROM:-0800
TZOFFSETTO:-0700
RDATE:20180311T020000
RDATE:20190310T020000
END:DAYLIGHT
END:VTIMEZONE
BEGIN:VEVENT
UID:2e3c1f14-cdd9-433c-9ef9-13412aa06d8c
DTSTAMP:20260425T123928Z
DESCRIPTION:Play is the work of childhood and our brain’s favorite way to l
 earn. Join us for an interactive playgroup! Meet other parents\, share sto
 ries\, build community and help your little one spread their wings during 
 play! Thursdays beginning January 11th at 9:15 through May 31st! Call\n541
 -389-5468 to register today!
DTSTART;TZID=America/Los_Angeles:20180301T091500
DTEND;TZID=America/Los_Angeles:20180301T103000
LOCATION:Redmond Early Learning Center
SUMMARY:Honey Bee Play Group
END:VEVENT
END:VCALENDAR
