BEGIN:VCALENDAR
VERSION:2.0
PRODID:-//frconline.org//NONSGML kigkonsult.se iCalcreator 2.30.10//
CALSCALE:GREGORIAN
METHOD:PUBLISH
UID:aa899728-7bcb-4657-a79a-b87ee5066ce7
X-WR-CALDESC:6-weekly sessions for parents of children 5-12 years. Learn ab
 out parenting styles & brain development\, explore cooperation and communi
 cation techniques and learn seven smart things parents can do to help chil
 dren succeed in school.
X-WR-RELCALID:36c8029e377b2ad8a8846825dc12049c
X-WR-TIMEZONE:America/Los_Angeles
BEGIN:VTIMEZONE
TZID:America/Los_Angeles
BEGIN:STANDARD
TZNAME:PST
DTSTART:20171105T020000
TZOFFSETFROM:-0700
TZOFFSETTO:-0800
RDATE:20181104T020000
END:STANDARD
BEGIN:DAYLIGHT
TZNAME:PDT
DTSTART:20170312T020000
TZOFFSETFROM:-0800
TZOFFSETTO:-0700
RDATE:20180311T020000
RDATE:20190310T020000
END:DAYLIGHT
END:VTIMEZONE
BEGIN:VEVENT
UID:117b246f-8768-4264-bd05-1436742450cb
DTSTAMP:20260425T135429Z
DESCRIPTION:6-weekly sessions for parents of children 5-12 years. Learn abo
 ut parenting styles & brain development\, explore cooperation and communic
 ation techniques and learn seven smart things parents can do to help child
 ren succeed in school.
DTSTART;TZID=America/Los_Angeles:20180227T180000
DTEND;TZID=America/Los_Angeles:20180227T200000
LOCATION:Active Parenting Now
SUMMARY:Active Parenting Now
END:VEVENT
END:VCALENDAR
