BEGIN:VCALENDAR
VERSION:2.0
PRODID:-//frconline.org//NONSGML kigkonsult.se iCalcreator 2.30.10//
CALSCALE:GREGORIAN
METHOD:PUBLISH
UID:c154b9eb-330a-4322-8eaf-76337f770bc2
X-WR-CALDESC:12 week class for parents with children newborn to age 8 refer
 red by DHS\, courts\, and other agencies.\nParent with an agency  referral
  share the joys and challenges of parenting while they learn new ways to h
 andle challenging behaviors and situations. The course is designed to help
  teach strategies for helping children to problem solve. Skills are develo
 ped in building positive family communications and how to set clear limits
 . This class is only offered in Bend.\n
X-WR-RELCALID:c9f741996d9de1b023260a72b51a09ce
X-WR-TIMEZONE:America/Los_Angeles
BEGIN:VTIMEZONE
TZID:America/Los_Angeles
BEGIN:STANDARD
TZNAME:PST
DTSTART:20171105T020000
TZOFFSETFROM:-0700
TZOFFSETTO:-0800
RDATE:20181104T020000
END:STANDARD
BEGIN:DAYLIGHT
TZNAME:PDT
DTSTART:20170312T020000
TZOFFSETFROM:-0800
TZOFFSETTO:-0700
RDATE:20180311T020000
RDATE:20190310T020000
END:DAYLIGHT
END:VTIMEZONE
BEGIN:VEVENT
UID:1df0ab1d-e849-4464-a3a2-10acad08525a
DTSTAMP:20260425T140918Z
DESCRIPTION:12 week class for parents with children newborn to age 8 referr
 ed by DHS\, courts\, and other agencies.\nParent with an agency  referral 
 share the joys and challenges of parenting while they learn new ways to ha
 ndle challenging behaviors and situations. The course is designed to help 
 teach strategies for helping children to problem solve. Skills are develop
 ed in building positive family communications and how to set clear limits.
  This class is only offered in Bend.\n
DTSTART;TZID=America/Los_Angeles:20180222T173000
DTEND;TZID=America/Los_Angeles:20180222T193000
LOCATION:First Presbyterian Church
SUMMARY:Focus on Parenting
END:VEVENT
END:VCALENDAR
