BEGIN:VCALENDAR
VERSION:2.0
PRODID:-//frconline.org//NONSGML kigkonsult.se iCalcreator 2.30.10//
CALSCALE:GREGORIAN
METHOD:PUBLISH
UID:dfbe9546-e979-4eaa-85ac-9bc52c84a745
X-WR-CALDESC:6-weekly sessions for parents of children 5-12 years. Learn ab
 out parenting styles & brain development\, explore cooperation and communi
 cation techniques and learn seven smart things parents can do to help chil
 dren succeed in school.
X-WR-RELCALID:ee4d9d4424866ca5b910cb23ba4ab688
X-WR-TIMEZONE:America/Los_Angeles
BEGIN:VTIMEZONE
TZID:America/Los_Angeles
BEGIN:STANDARD
TZNAME:PST
DTSTART:20171105T020000
TZOFFSETFROM:-0700
TZOFFSETTO:-0800
RDATE:20181104T020000
END:STANDARD
BEGIN:DAYLIGHT
TZNAME:PDT
DTSTART:20170312T020000
TZOFFSETFROM:-0800
TZOFFSETTO:-0700
RDATE:20180311T020000
RDATE:20190310T020000
END:DAYLIGHT
END:VTIMEZONE
BEGIN:VEVENT
UID:a660e6a4-3a6c-4fe6-99d2-f757e81b2b5a
DTSTAMP:20260425T140605Z
DESCRIPTION:6-weekly sessions for parents of children 5-12 years. Learn abo
 ut parenting styles & brain development\, explore cooperation and communic
 ation techniques and learn seven smart things parents can do to help child
 ren succeed in school.
DTSTART;TZID=America/Los_Angeles:20180220T180000
DTEND;TZID=America/Los_Angeles:20180220T200000
LOCATION:Active Parenting Now
SUMMARY:Active Parenting Now
END:VEVENT
END:VCALENDAR
