BEGIN:VCALENDAR
VERSION:2.0
PRODID:-//frconline.org//NONSGML kigkonsult.se iCalcreator 2.30.10//
CALSCALE:GREGORIAN
METHOD:PUBLISH
UID:db621552-42bd-49c9-9048-26a54ba4ad12
X-WR-CALDESC:6 weekly sessions for parents of children 10-17 that focus on 
 what teens need to be successful\, how to communicate with and gain cooper
 ation from teens\, instill responsibility and discipline\, the five goals 
 of teen behavior and ten prevention strategies.\n
X-WR-RELCALID:5bccceb9d62845db8775e14b563a7a3e
X-WR-TIMEZONE:America/Los_Angeles
BEGIN:VTIMEZONE
TZID:America/Los_Angeles
BEGIN:STANDARD
TZNAME:PST
DTSTART:20171105T020000
TZOFFSETFROM:-0700
TZOFFSETTO:-0800
RDATE:20181104T020000
END:STANDARD
BEGIN:DAYLIGHT
TZNAME:PDT
DTSTART:20170312T020000
TZOFFSETFROM:-0800
TZOFFSETTO:-0700
RDATE:20180311T020000
RDATE:20190310T020000
END:DAYLIGHT
END:VTIMEZONE
BEGIN:VEVENT
UID:e4bf68f7-024b-47f8-9206-5f34b6aadce3
DTSTAMP:20260425T135527Z
DESCRIPTION:6 weekly sessions for parents of children 10-17 that focus on w
 hat teens need to be successful\, how to communicate with and gain coopera
 tion from teens\, instill responsibility and discipline\, the five goals o
 f teen behavior and ten prevention strategies.\n
DTSTART;TZID=America/Los_Angeles:20180201T180000
DTEND;TZID=America/Los_Angeles:20180201T200000
LOCATION:RPA Middle School
SUMMARY:Active Parenting of Teens
END:VEVENT
END:VCALENDAR
