BEGIN:VCALENDAR
VERSION:2.0
PRODID:-//frconline.org//NONSGML kigkonsult.se iCalcreator 2.30.10//
CALSCALE:GREGORIAN
METHOD:PUBLISH
UID:837a4d0b-e356-44a5-b007-ceab2e9a17b9
X-WR-CALDESC:A 90-minute parent workshop developed for parents and guardian
 s in Deschutes County to learn factual\, unbiased information and skills t
 o start conversations with their kids about marijuana and other drugs. Thi
 s is a free workshop for all participants.\n\nVisit http://www.sharedfutur
 ecoalition.org/connect/ to register for a workshop.
X-WR-RELCALID:abfeca53b44e1803b0253029b6d27922
X-WR-TIMEZONE:America/Los_Angeles
BEGIN:VTIMEZONE
TZID:America/Los_Angeles
BEGIN:STANDARD
TZNAME:PST
DTSTART:20171105T020000
TZOFFSETFROM:-0700
TZOFFSETTO:-0800
RDATE:20181104T020000
END:STANDARD
BEGIN:DAYLIGHT
TZNAME:PDT
DTSTART:20170312T020000
TZOFFSETFROM:-0800
TZOFFSETTO:-0700
RDATE:20180311T020000
RDATE:20190310T020000
END:DAYLIGHT
END:VTIMEZONE
BEGIN:VEVENT
UID:865ff50b-3880-4b16-9881-8374df8af989
DTSTAMP:20260425T152350Z
DESCRIPTION:A 90-minute parent workshop developed for parents and guardians
  in Deschutes County to learn factual\, unbiased information and skills to
  start conversations with their kids about marijuana and other drugs. This
  is a free workshop for all participants.\n\nVisit http://www.sharedfuture
 coalition.org/connect/ to register for a workshop.
DTSTART;TZID=America/Los_Angeles:20180117T173000
DTEND;TZID=America/Los_Angeles:20180117T190000
LOCATION:Downtown Bend Public Library
SUMMARY:Connect Workshop
END:VEVENT
END:VCALENDAR
