BEGIN:VCALENDAR
VERSION:2.0
PRODID:-//frconline.org//NONSGML kigkonsult.se iCalcreator 2.30.10//
CALSCALE:GREGORIAN
METHOD:PUBLISH
UID:c5847b67-9937-4cb5-8891-09e9adac7539
X-WR-CALDESC:10-weekly sessions for parents\, grandparents and care provide
 rs of children 0 to 8 years. Explore the latest parenting techniques\, lea
 rn to set limits\, find positive approaches to discipline\, and help your 
 child prepare for school success.
X-WR-RELCALID:7bb5514a36e0a5362d7c74d9e88b2932
X-WR-TIMEZONE:America/Los_Angeles
BEGIN:VTIMEZONE
TZID:America/Los_Angeles
BEGIN:STANDARD
TZNAME:PST
DTSTART:20171105T020000
TZOFFSETFROM:-0700
TZOFFSETTO:-0800
RDATE:20181104T020000
END:STANDARD
BEGIN:DAYLIGHT
TZNAME:PDT
DTSTART:20170312T020000
TZOFFSETFROM:-0800
TZOFFSETTO:-0700
RDATE:20180311T020000
RDATE:20190310T020000
END:DAYLIGHT
END:VTIMEZONE
BEGIN:VEVENT
UID:2f73a95c-0202-4885-953d-5834c80e45af
DTSTAMP:20260425T154243Z
DESCRIPTION:10-weekly sessions for parents\, grandparents and care provider
 s of children 0 to 8 years. Explore the latest parenting techniques\, lear
 n to set limits\, find positive approaches to discipline\, and help your c
 hild prepare for school success.
DTSTART;TZID=America/Los_Angeles:20180116T180000
DTEND;TZID=America/Los_Angeles:20180116T200000
LOCATION:Madras Oregon Child Development Coalition
SUMMARY:Make Parenting a Pleasure
END:VEVENT
END:VCALENDAR
