BEGIN:VCALENDAR
VERSION:2.0
PRODID:-//frconline.org//NONSGML kigkonsult.se iCalcreator 2.30.10//
CALSCALE:GREGORIAN
METHOD:PUBLISH
UID:0822c000-f7a3-4810-85cc-19f5a0219918
X-WR-CALDESC:You’re invited to play the brain game on Wednesday evening Nov
 ember 29th. Learn what it takes to build a strong resilient brain.\n\nPart
 icipants will simultaneously construct a brain while learning how the foun
 dational principles of neuroscience are important to the growth of a child
 ’s brain. \n\n  It’s easy to understand and simple to play –\n  but hard t
 o forget! \n\nWe can also bring it to your staff in-service day.\n  \n
X-WR-RELCALID:58b5f8c0e428c76074c7f3cc0486171d
X-WR-TIMEZONE:America/Los_Angeles
BEGIN:VTIMEZONE
TZID:America/Los_Angeles
BEGIN:STANDARD
TZNAME:PST
DTSTART:20171105T020000
TZOFFSETFROM:-0700
TZOFFSETTO:-0800
RDATE:20181104T020000
END:STANDARD
BEGIN:DAYLIGHT
TZNAME:PDT
DTSTART:20170312T020000
TZOFFSETFROM:-0800
TZOFFSETTO:-0700
RDATE:20180311T020000
RDATE:20190310T020000
END:DAYLIGHT
END:VTIMEZONE
BEGIN:VEVENT
UID:429f16d2-9256-475a-b82d-17898750b5ea
DTSTAMP:20260425T190404Z
DESCRIPTION:You’re invited to play the brain game on Wednesday evening Nove
 mber 29th. Learn what it takes to build a strong resilient brain.\n\nParti
 cipants will simultaneously construct a brain while learning how the found
 ational principles of neuroscience are important to the growth of a child’
 s brain. \n\n  It’s easy to understand and simple to play –\n  but hard to
  forget! \n\nWe can also bring it to your staff in-service day.\n  \n
DTSTART;TZID=America/Los_Angeles:20171129T180000
DTEND;TZID=America/Los_Angeles:20171129T200000
LOCATION:Family Resource Center
SUMMARY:The Brain Game (Option 2)
END:VEVENT
END:VCALENDAR
