BEGIN:VCALENDAR
VERSION:2.0
PRODID:-//frconline.org//NONSGML kigkonsult.se iCalcreator 2.30.10//
CALSCALE:GREGORIAN
METHOD:PUBLISH
UID:c7e3f9b5-7cfd-4472-9868-5e113a46aa70
X-WR-CALDESC:5 weekly sessions for parents referred by another agency who h
 ave children 10-17 that focus on strengthening family bonds\, improving fa
 mily management skills\, decreasing family conflict\, and developing strat
 egies for better communication and limit setting.
X-WR-RELCALID:b9347ccb716478703132030a2c7619e5
X-WR-TIMEZONE:America/Los_Angeles
BEGIN:VTIMEZONE
TZID:America/Los_Angeles
BEGIN:STANDARD
TZNAME:PST
DTSTART:20171105T020000
TZOFFSETFROM:-0700
TZOFFSETTO:-0800
RDATE:20181104T020000
END:STANDARD
BEGIN:DAYLIGHT
TZNAME:PDT
DTSTART:20170312T020000
TZOFFSETFROM:-0800
TZOFFSETTO:-0700
RDATE:20180311T020000
RDATE:20190310T020000
END:DAYLIGHT
END:VTIMEZONE
BEGIN:VEVENT
UID:e8fdbe8c-a8ec-4a79-a0c7-c13cc2d3dc09
DTSTAMP:20260425T190637Z
DESCRIPTION:5 weekly sessions for parents referred by another agency who ha
 ve children 10-17 that focus on strengthening family bonds\, improving fam
 ily management skills\, decreasing family conflict\, and developing strate
 gies for better communication and limit setting.
DTSTART;TZID=America/Los_Angeles:20171115T180000
DTEND;TZID=America/Los_Angeles:20171115T200000
LOCATION:Family Resource Center
SUMMARY:Staying Connected to Your Teen
END:VEVENT
END:VCALENDAR
