BEGIN:VCALENDAR
VERSION:2.0
PRODID:-//frconline.org//NONSGML kigkonsult.se iCalcreator 2.30.10//
CALSCALE:GREGORIAN
METHOD:PUBLISH
UID:17c22f32-5167-48a7-80b1-e7a040c8a626
X-WR-CALDESC:7-weekly sessions for parents\, grandparents and care provider
 s of children 0 to 6 years. Have fun learning new ways to handle challengi
 ng\nbehaviors & situations\, how to establish family routines\, problem so
 lving with young children and positive approaches to discipline and\ncommu
 nication.\n
X-WR-RELCALID:a05d4359f7dc7d4274a788392543127e
X-WR-TIMEZONE:America/Los_Angeles
BEGIN:VTIMEZONE
TZID:America/Los_Angeles
BEGIN:STANDARD
TZNAME:PST
DTSTART:20161106T020000
TZOFFSETFROM:-0700
TZOFFSETTO:-0800
RDATE:20171105T020000
RDATE:20181104T020000
END:STANDARD
BEGIN:DAYLIGHT
TZNAME:PDT
DTSTART:20170312T020000
TZOFFSETFROM:-0800
TZOFFSETTO:-0700
RDATE:20180311T020000
RDATE:20190310T020000
END:DAYLIGHT
END:VTIMEZONE
BEGIN:VEVENT
UID:d7d273a8-d29f-41e4-abd6-598c72439e53
DTSTAMP:20260425T204519Z
DESCRIPTION:7-weekly sessions for parents\, grandparents and care providers
  of children 0 to 6 years. Have fun learning new ways to handle challengin
 g\nbehaviors & situations\, how to establish family routines\, problem sol
 ving with young children and positive approaches to discipline and\ncommun
 ication.\n
DTSTART;TZID=America/Los_Angeles:20171005T173000
DTEND;TZID=America/Los_Angeles:20171005T193000
LOCATION:Alyce Hatch Center
SUMMARY:Parenting Now
END:VEVENT
END:VCALENDAR
