BEGIN:VCALENDAR
VERSION:2.0
PRODID:-//frconline.org//NONSGML kigkonsult.se iCalcreator 2.30.10//
CALSCALE:GREGORIAN
METHOD:PUBLISH
UID:11a03207-05d2-45c1-a533-bb698e124180
X-WR-CALDESC:10-weekly sessions for parents\, grandparents and care provide
 rs of children 0 to 8 years. Explore the latest parenting techniques\, lea
 rn to set limits\, find positive approaches to discipline\, and help your 
 child prepare for school success.
X-WR-RELCALID:b92f2aaa268ead277a8e08b3e908753f
X-WR-TIMEZONE:America/Los_Angeles
BEGIN:VTIMEZONE
TZID:America/Los_Angeles
BEGIN:STANDARD
TZNAME:PST
DTSTART:20161106T020000
TZOFFSETFROM:-0700
TZOFFSETTO:-0800
RDATE:20171105T020000
RDATE:20181104T020000
END:STANDARD
BEGIN:DAYLIGHT
TZNAME:PDT
DTSTART:20170312T020000
TZOFFSETFROM:-0800
TZOFFSETTO:-0700
RDATE:20180311T020000
END:DAYLIGHT
END:VTIMEZONE
BEGIN:VEVENT
UID:088c0cc2-d2c8-4ee4-a2ba-cc78e3e53066
DTSTAMP:20260426T025353Z
DESCRIPTION:10-weekly sessions for parents\, grandparents and care provider
 s of children 0 to 8 years. Explore the latest parenting techniques\, lear
 n to set limits\, find positive approaches to discipline\, and help your c
 hild prepare for school success.
DTSTART;TZID=America/Los_Angeles:20170627T180000
DTEND;TZID=America/Los_Angeles:20170627T200000
LOCATION:Madras
SUMMARY:Make Parenting a Pleasure
END:VEVENT
END:VCALENDAR
