BEGIN:VCALENDAR
VERSION:2.0
PRODID:-//frconline.org//NONSGML kigkonsult.se iCalcreator 2.30.10//
CALSCALE:GREGORIAN
METHOD:PUBLISH
UID:4108ee38-c3c3-4b59-980f-f0d04038a4d1
X-WR-CALDESC:7-weekly sessions for parents\, grandparents and care provider
 s of children 0 to 6 years. Have fun learning new ways to handle challengi
 ng\nbehaviors & situations\, how to establish family routines\, problem so
 lving with young children and positive approaches to discipline and\ncommu
 nication.\n
X-WR-RELCALID:b189eac0ccada3cad75851c09b9dd04c
X-WR-TIMEZONE:America/Los_Angeles
BEGIN:VTIMEZONE
TZID:America/Los_Angeles
BEGIN:STANDARD
TZNAME:PST
DTSTART:20161106T020000
TZOFFSETFROM:-0700
TZOFFSETTO:-0800
RDATE:20171105T020000
END:STANDARD
BEGIN:DAYLIGHT
TZNAME:PDT
DTSTART:20170312T020000
TZOFFSETFROM:-0800
TZOFFSETTO:-0700
RDATE:20180311T020000
END:DAYLIGHT
END:VTIMEZONE
BEGIN:VEVENT
UID:31363c78-8d6f-4831-b0ac-002ed4377e2b
DTSTAMP:20260426T042903Z
DESCRIPTION:7-weekly sessions for parents\, grandparents and care providers
  of children 0 to 6 years. Have fun learning new ways to handle challengin
 g\nbehaviors & situations\, how to establish family routines\, problem sol
 ving with young children and positive approaches to discipline and\ncommun
 ication.\n
DTSTART;TZID=America/Los_Angeles:20170503T173000
DTEND;TZID=America/Los_Angeles:20170503T193000
LOCATION:Alyce Hatch Center
SUMMARY:Parenting Now
END:VEVENT
END:VCALENDAR
