BEGIN:VCALENDAR
VERSION:2.0
PRODID:-//frconline.org//NONSGML kigkonsult.se iCalcreator 2.30.10//
CALSCALE:GREGORIAN
METHOD:PUBLISH
UID:a01bc007-e001-4133-8cdd-3820b2d8eb45
X-WR-CALDESC:Sesión de 10-semanas para padres\, abuelos y proveedores de cu
 idado de niños entre edades de 0 a 8 años. Explore las técnicas más actual
 izadas en cuanto a la crianza de niños\, aprenda a poner límites\, a encon
 trar maneras positivas para disciplinar\, y a ayudarle a sus niños  a que 
 se preparen para tener éxito en la escuela.
X-WR-RELCALID:d8c02af08599fb5257735e97c39d83d3
X-WR-TIMEZONE:America/Los_Angeles
BEGIN:VTIMEZONE
TZID:America/Los_Angeles
BEGIN:STANDARD
TZNAME:PST
DTSTART:20161106T020000
TZOFFSETFROM:-0700
TZOFFSETTO:-0800
RDATE:20171105T020000
END:STANDARD
BEGIN:DAYLIGHT
TZNAME:PDT
DTSTART:20170312T020000
TZOFFSETFROM:-0800
TZOFFSETTO:-0700
RDATE:20180311T020000
END:DAYLIGHT
END:VTIMEZONE
BEGIN:VEVENT
UID:fee7ca5c-9509-453b-934b-f0317d65f10f
DTSTAMP:20260426T043032Z
DESCRIPTION:Sesión de 10-semanas para padres\, abuelos y proveedores de cui
 dado de niños entre edades de 0 a 8 años. Explore las técnicas más actuali
 zadas en cuanto a la crianza de niños\, aprenda a poner límites\, a encont
 rar maneras positivas para disciplinar\, y a ayudarle a sus niños  a que s
 e preparen para tener éxito en la escuela.
DTSTART;TZID=America/Los_Angeles:20170502T173000
DTEND;TZID=America/Los_Angeles:20170502T193000
LOCATION:Madras
SUMMARY:Que la Crianza de sus Hijos sea un placer
END:VEVENT
END:VCALENDAR
